BEGIN:VCALENDAR
VERSION:2.0
PRODID:-//Virginia Synod, ELCA - ECPv6.11.2.1//NONSGML v1.0//EN
CALSCALE:GREGORIAN
METHOD:PUBLISH
X-ORIGINAL-URL:https://vasynod.org
X-WR-CALDESC:Events for Virginia Synod, ELCA
REFRESH-INTERVAL;VALUE=DURATION:PT1H
X-Robots-Tag:noindex
X-PUBLISHED-TTL:PT1H
BEGIN:VTIMEZONE
TZID:America/New_York
BEGIN:DAYLIGHT
TZOFFSETFROM:-0500
TZOFFSETTO:-0400
TZNAME:EDT
DTSTART:20180311T070000
END:DAYLIGHT
BEGIN:STANDARD
TZOFFSETFROM:-0400
TZOFFSETTO:-0500
TZNAME:EST
DTSTART:20181104T060000
END:STANDARD
BEGIN:DAYLIGHT
TZOFFSETFROM:-0500
TZOFFSETTO:-0400
TZNAME:EDT
DTSTART:20190310T070000
END:DAYLIGHT
BEGIN:STANDARD
TZOFFSETFROM:-0400
TZOFFSETTO:-0500
TZNAME:EST
DTSTART:20191103T060000
END:STANDARD
END:VTIMEZONE
BEGIN:VEVENT
DTSTART;VALUE=DATE:20190711
DTEND;VALUE=DATE:20190714
DTSTAMP:20260423T220030
CREATED:20160218T211358Z
LAST-MODIFIED:20190409T132528Z
UID:9066-1562803200-1563062399@vasynod.org
SUMMARY:Power in the Spirit
DESCRIPTION:Power in the Spirit is an inspirational conference for everyone who wishes to explore God’s call to service through joyous worship\, Bible study\, keynote addresses\, workshops\, and\nfellowship. In addition\, all congregational leaders will find POWER IN THE SPIRIT especially nurturing and challenging as they consider their mission and ministry. \n\nEvent Packet\nRegister Online\nRoanoke College Health Form
URL:https://vasynod.org/event/power-in-the-spirit/
LOCATION:Roanoke College\, 221 College Lane\, Salem\, VA\, United States
CATEGORIES:Power in the Spirit
ATTACH;FMTTYPE=image/jpeg:https://vasynod.org/wp-content/uploads/2016/02/DSC_3322-e1508956065548.jpg
END:VEVENT
BEGIN:VEVENT
DTSTART;VALUE=DATE:20190704
DTEND;VALUE=DATE:20190705
DTSTAMP:20260423T220030
CREATED:20190130T213529Z
LAST-MODIFIED:20190130T213640Z
UID:14822-1562198400-1562284799@vasynod.org
SUMMARY:Office of the Bishop Closed for July 4th
DESCRIPTION:
URL:https://vasynod.org/event/office-of-the-bishop-closed-for-july-4th/
CATEGORIES:Office Closed
ATTACH;FMTTYPE=image/png:https://vasynod.org/wp-content/uploads/2019/01/4.png
END:VEVENT
BEGIN:VEVENT
DTSTART;TZID=America/New_York:20190624T150000
DTEND;TZID=America/New_York:20190626T123000
DTSTAMP:20260423T220030
CREATED:20190403T200352Z
LAST-MODIFIED:20190405T141809Z
UID:15318-1561388400-1561552200@vasynod.org
SUMMARY:“From Crib to Cross” Lutheran-Episcopal Retreat
DESCRIPTION:All rostered ministers and seminarians of the Virginia Synod are invited to a retreat June 24-26\, 2019 in the beautiful Shenandoah Valley to meet with other clergy and leaders of the Episcopal Church as we continue to live into our full communion partnership. Our guest speakers are Dr. Timothy Wengert of Philadelphia Seminary and Dr. Alyson Barnett-Cowan of the Anglican Church of Canada. Both speakers will help us explore the theological impulses of our traditions (the “Crib” and the “Cross”) and how our distinctions help us understand our own traditions better. There will be time for conversation among participants as well as free time and activities. Pastors looking to explore this special partnership will be enriched by this retreat! \nRegistration Deadline is May 15\, 2019. Save $10 by registering by April 30! For more information and to register for this event\, click here. \nContact for more information: The Rev. Eric Moehring\, the Rev. Terrie Sternberg\, or the Rev. Viktoria Parvin.
URL:https://vasynod.org/event/from-crib-to-cross-lutheran-episcopal-retreat/
LOCATION:Shrine Mont Retreat Center\, 217 Shrine Mont Cir\, Orkney Springs\, VA\, 22845\, United States
ATTACH;FMTTYPE=image/jpeg:https://vasynod.org/wp-content/uploads/2019/04/logo-2019.jpg
ORGANIZER;CN="The Rev. Eric Moehring":MAILTO:ericjohnmoehring@gmail.com
END:VEVENT
BEGIN:VEVENT
DTSTART;TZID=America/New_York:20190510T183000
DTEND;TZID=America/New_York:20190512T103000
DTSTAMP:20260423T220030
CREATED:20190401T183636Z
LAST-MODIFIED:20190404T144555Z
UID:15303-1557513000-1557657000@vasynod.org
SUMMARY:Young Adult Retreat
DESCRIPTION:Young adults of the Virginia Synod are invited to the Young Adult Retreat weekend at Caroline Furnace on May 10-12\, 2019! Join us for an amazing weekend full of worship and fellowship as we gather in community to form connections and empower one another in our faith lives. To register for the retreat\, click here. \nEarly bird registration ends on April 22\, 2019\, and registration is limited to 25 participants\, so don’t delay! \nIf you have any questions\, reach out to Pastor Dave Delaney at delaney@vasynod.org or 540-389-1000 \n 
URL:https://vasynod.org/event/young-adult-retreat/
LOCATION:Caroline Furnace Lutheran Camp and Retreat Center\, 2642 Camp Roosevelt Road\, Fort Valley\, VA\, 22652\, United States
ATTACH;FMTTYPE=image/png:https://vasynod.org/wp-content/uploads/2019/04/Young-Adult-Retreat.png
ORGANIZER;CN="Dave Delaney":MAILTO:delaney@vasynod.org
END:VEVENT
BEGIN:VEVENT
DTSTART;VALUE=DATE:20190329
DTEND;VALUE=DATE:20190331
DTSTAMP:20260423T220030
CREATED:20180327T154114Z
LAST-MODIFIED:20180820T181132Z
UID:13196-1553817600-1553990399@vasynod.org
SUMMARY:Candidacy Committee Meeting
DESCRIPTION:For more information about the Candidacy process\, click here.
URL:https://vasynod.org/event/candidacy-committee-meeting-2/
LOCATION:English Inn of Charlottesville\, 2000 Morton Drive\, Charlottesville\, VA\, 22903\, United States
CATEGORIES:Candidacy Committee
ATTACH;FMTTYPE=image/png:https://vasynod.org/wp-content/uploads/2018/03/Candidacy-Committee-Meeting-1.png
END:VEVENT
BEGIN:VEVENT
DTSTART;TZID=America/New_York:20190323T090000
DTEND;TZID=America/New_York:20190323T150000
DTSTAMP:20260423T220030
CREATED:20181207T182505Z
LAST-MODIFIED:20190102T195339Z
UID:14566-1553331600-1553353200@vasynod.org
SUMMARY:Ask\, Thank\, Tell: Growing Generous Stewardship
DESCRIPTION:The Virginia Synod and the Presbytery of the James are offering a one-day Stewardship education event with Charles R Lane\, the author of “Ask\, Thank\, Tell” and “Embracing Stewardship” at Three Chopt Presbyterian Church in Richmond on Saturday\, March 23\, 2019\, from 9 AM until 3 PM.  The cost of the event is $15 per person. \nThere is time built into the schedule from 2 PM to 3 PM for congregational groups to work together on specific ideas for their congregation\, so plan to bring a team.  If you are registering more than one person\, fill out the “Attendee #1 Info” and then click the “Add Attendee” button at the end of that section to register additional attendees.  For a look at the outline of the day\, download the Ask\, Thank\, Tell: Growing Generous Stewardship Preliminary Schedule. \nFor this event\, you have two options to participate.  You can register and participate in-person or by simulcast. For those who plan to attend in-person\, please select the “Ask\, Thank\, Tell: In-Person” ticket and make sure to let us know if you have dietary restrictions for lunch.  For those planning to attend through the online simulcast\, please select the “Ask\, Thank\, Tell: Simulcast” ticket.  A link to access the event will be emailed to you after registration. \nRegistration for the in-person participation closes on Monday\, March 13.  Registration for the simulcast closes on Thursday\, March 21. \n\nOnline Registration\n\n\nIf you have any questions about the event\, please feel free to contact Pastor John Wertz\, Jr. at wertz@vasynod.org or or Dr. Deborah Rexrode at: deborah@presbyteryofthejames.org.
URL:https://vasynod.org/event/ask-thank-tell-growing-generous-stewardship/
LOCATION:Three Chopt Presbyterian Church\, 9315 Three Chopt Rd\, Henrico\, VA\, 23229\, United States
CATEGORIES:Stewardship
ATTACH;FMTTYPE=image/png:https://vasynod.org/wp-content/uploads/2018/12/Ask-Thank-Tell-Main-Slider-2019.png
ORGANIZER;CN="Pastor John Wertz%2C Jr.":MAILTO:wertz@vasynod.org
END:VEVENT
BEGIN:VEVENT
DTSTART;VALUE=DATE:20180909
DTEND;VALUE=DATE:20180910
DTSTAMP:20260423T220030
CREATED:20170223T163030Z
LAST-MODIFIED:20180622T141527Z
UID:11133-1536451200-1536537599@vasynod.org
SUMMARY:ELCA "God's Work. Our Hands." Day of Service
DESCRIPTION:Please save the date Sunday\, Sept. 9\, when congregations of the Evangelical Lutheran Church in America will again have the opportunity to gather together for “God’s work. Our hands.” Sunday. \nThis day is an opportunity to celebrate who we are as the Evangelical Lutheran Church in America – one church\, freed in Christ to serve and love our neighbor. \nService activities offer an opportunity for us to explore one of our most basic convictions as Lutherans: that all of life in Jesus Christ – every act of service\, in every daily calling\, in every corner of life – flows freely from a living\, daring confidence in God’s grace. \nYou work every day to make your community a better place. Let us continue doing this work together in 2018! View the video and access resources to guide your congregation’s planning\, promotion and more.
URL:https://vasynod.org/event/elca-gods-work-hands-day-service/
CATEGORIES:Week of Service
ATTACH;FMTTYPE=image/jpeg:https://vasynod.org/wp-content/uploads/2017/01/833b4240-d710-435c-99a5-7541b211ec83.jpg
END:VEVENT
BEGIN:VEVENT
DTSTART;VALUE=DATE:20180817
DTEND;VALUE=DATE:20180819
DTSTAMP:20260423T220030
CREATED:20170620T155314Z
LAST-MODIFIED:20180822T183923Z
UID:11718-1534464000-1534636799@vasynod.org
SUMMARY:Virginia Synod Vocations Conference
DESCRIPTION:The Virginia Synod Vocations Conference\nEagle Eyrie Baptist Conference Center\n \nAnyone discerning a call to rostered ministry is encouraged to attend the Vocations Conference – the sooner in your discernment\, the better equipped you will be to prayerfully consider how God is calling you to use your faith gifts through your vocational call. \nThe Virginia Synod Vocations Conference allows persons who are wondering what professional ministry in the church is like to spend time with those who have experience within the church. It allows time for reflection\, conversations\, and questions concerning one’s call and gifts for ministry through ample opportunities for fellowship and free time. It provides a retreat setting for helping individuals discern their gifts for ministry. \nINQUIRERS: If you feel God calling you to public leadership in the church\, you should attend the Vocations Conference! Please speak with your pastor or deacon\, who is also invited to attend with you. \nPASTORS and DEACONS: If you know of someone who has expressed interest\, or may be interested in becoming a pastor or deacon\, please get that person to the Vocations Conference! It is seldom too early for an inquirer to get to know the Candidacy Committee and the ELCA Candidacy process. \nCANDIDATES: This is a “must-event” for you. It’s the annual time to check in with your Candidacy Committee. \nRegister Online\n\nIf you have questions\, please contact Pastor Kelly Bayer Derrick in the Virginia Synod Office of the Bishop. \nFor more information about the Candidacy process\, click here.
URL:https://vasynod.org/event/virginia-synod-vocations-conference/
LOCATION:Eagle Eyrie Baptist Conference Center\, 1 Eagle Eyrie Drive\, Lynchburg\, VA\, 24503\, United States
CATEGORIES:Candidacy Committee
ATTACH;FMTTYPE=image/jpeg:https://vasynod.org/wp-content/uploads/2017/06/DSC_1198.jpg
ORGANIZER;CN="Pastor Kelly Bayer Derrick":MAILTO:bayerderrick@vasynod.org
END:VEVENT
END:VCALENDAR